BEGIN:VCALENDAR
VERSION:2.0
PRODID:-//Greensboro Holistic Collective - ECPv6.15.20//NONSGML v1.0//EN
CALSCALE:GREGORIAN
METHOD:PUBLISH
X-ORIGINAL-URL:https://greensboroholisticcollective.com
X-WR-CALDESC:Events for Greensboro Holistic Collective
REFRESH-INTERVAL;VALUE=DURATION:PT1H
X-Robots-Tag:noindex
X-PUBLISHED-TTL:PT1H
BEGIN:VTIMEZONE
TZID:America/New_York
BEGIN:DAYLIGHT
TZOFFSETFROM:-0500
TZOFFSETTO:-0400
TZNAME:EDT
DTSTART:20240310T070000
END:DAYLIGHT
BEGIN:STANDARD
TZOFFSETFROM:-0400
TZOFFSETTO:-0500
TZNAME:EST
DTSTART:20241103T060000
END:STANDARD
BEGIN:DAYLIGHT
TZOFFSETFROM:-0500
TZOFFSETTO:-0400
TZNAME:EDT
DTSTART:20250309T070000
END:DAYLIGHT
BEGIN:STANDARD
TZOFFSETFROM:-0400
TZOFFSETTO:-0500
TZNAME:EST
DTSTART:20251102T060000
END:STANDARD
BEGIN:DAYLIGHT
TZOFFSETFROM:-0500
TZOFFSETTO:-0400
TZNAME:EDT
DTSTART:20260308T070000
END:DAYLIGHT
BEGIN:STANDARD
TZOFFSETFROM:-0400
TZOFFSETTO:-0500
TZNAME:EST
DTSTART:20261101T060000
END:STANDARD
END:VTIMEZONE
BEGIN:VEVENT
DTSTART;TZID=America/New_York:20250819T180000
DTEND;TZID=America/New_York:20250819T190000
DTSTAMP:20260419T120107
CREATED:20250812T193341Z
LAST-MODIFIED:20250812T193341Z
UID:6039-1755626400-1755630000@greensboroholisticcollective.com
SUMMARY:Spiritual Circle
DESCRIPTION:✨ Gather. Heal. Expand. ✨Join us every Tuesday at 6 PM for our Donation-Based Spiritual Circle — a safe and sacred space to meditate\, share\, and connect with like-minded souls. 🌙💫 \nYour energy and presence are the true gifts — donations are simply received with gratitude. 💖 \n🔮 Reserve your spot & step into the circle today!
URL:https://greensboroholisticcollective.com/event/spiritual-circle/
LOCATION:301 S Greene St Suite 12\, 301 S Greene St Suite 12\, Greensboro\, N\, 27410\, United States
CATEGORIES:Networking & Community Events,Workshops & Classes
END:VEVENT
BEGIN:VEVENT
DTSTART;TZID=America/New_York:20250819T180000
DTEND;TZID=America/New_York:20250819T190000
DTSTAMP:20260419T120107
CREATED:20250812T193358Z
LAST-MODIFIED:20250812T193358Z
UID:6041-1755626400-1755630000@greensboroholisticcollective.com
SUMMARY:Spiritual Circle
DESCRIPTION:✨ Gather. Heal. Expand. ✨Join us every Tuesday at 6 PM for our Donation-Based Spiritual Circle — a safe and sacred space to meditate\, share\, and connect with like-minded souls. 🌙💫 \nYour energy and presence are the true gifts — donations are simply received with gratitude. 💖 \n🔮 Reserve your spot & step into the circle today!
URL:https://greensboroholisticcollective.com/event/spiritual-circle-2/
LOCATION:301 S Greene St Suite 12\, 301 S Greene St Suite 12\, Greensboro\, N\, 27410\, United States
CATEGORIES:Networking & Community Events,Workshops & Classes
ATTACH;FMTTYPE=image/jpeg:https://greensboroholisticcollective.com/wp-content/uploads/2025/08/IMG_2406.jpeg
END:VEVENT
END:VCALENDAR