BEGIN:VCALENDAR
VERSION:2.0
PRODID:-//Greensboro Holistic Collective - ECPv6.15.20//NONSGML v1.0//EN
CALSCALE:GREGORIAN
METHOD:PUBLISH
X-ORIGINAL-URL:https://greensboroholisticcollective.com
X-WR-CALDESC:Events for Greensboro Holistic Collective
REFRESH-INTERVAL;VALUE=DURATION:PT1H
X-Robots-Tag:noindex
X-PUBLISHED-TTL:PT1H
BEGIN:VTIMEZONE
TZID:America/New_York
BEGIN:DAYLIGHT
TZOFFSETFROM:-0500
TZOFFSETTO:-0400
TZNAME:EDT
DTSTART:20240310T070000
END:DAYLIGHT
BEGIN:STANDARD
TZOFFSETFROM:-0400
TZOFFSETTO:-0500
TZNAME:EST
DTSTART:20241103T060000
END:STANDARD
BEGIN:DAYLIGHT
TZOFFSETFROM:-0500
TZOFFSETTO:-0400
TZNAME:EDT
DTSTART:20250309T070000
END:DAYLIGHT
BEGIN:STANDARD
TZOFFSETFROM:-0400
TZOFFSETTO:-0500
TZNAME:EST
DTSTART:20251102T060000
END:STANDARD
BEGIN:DAYLIGHT
TZOFFSETFROM:-0500
TZOFFSETTO:-0400
TZNAME:EDT
DTSTART:20260308T070000
END:DAYLIGHT
BEGIN:STANDARD
TZOFFSETFROM:-0400
TZOFFSETTO:-0500
TZNAME:EST
DTSTART:20261101T060000
END:STANDARD
END:VTIMEZONE
BEGIN:VEVENT
DTSTART;TZID=America/New_York:20251206T103000
DTEND;TZID=America/New_York:20251206T120000
DTSTAMP:20260420T083553
CREATED:20251203T172426Z
LAST-MODIFIED:20251203T172426Z
UID:6528-1765017000-1765022400@greensboroholisticcollective.com
SUMMARY:Presence or Awareness Practice Group - Live Zoom Event
DESCRIPTION:Have you been wanting to practice and increase your skill at being present or aware?  Come join a community of people who practice together and feel the support of the shared presence.   This group is free to attend and it is on zoom.  We gather together and watch/listen to a 10 minute meditation.  Then hold silent practice together for 15 minutes.  After that the floor is open to discussion and support and shared experiences.\n\nTo attend – send an email to:  livingasawareness@gmail.com and request to join.  You will be emailed the Zoom meeting link.\n\nLearn more about presence practice
URL:https://greensboroholisticcollective.com/event/presence-or-awareness-practice-group-live-zoom-event/
LOCATION:Virtual
CATEGORIES:Workshops & Classes
ATTACH;FMTTYPE=image/png:https://greensboroholisticcollective.com/wp-content/uploads/2025/12/Screenshot_20251202-004509.png
ORGANIZER;CN="Deana Coble":MAILTO:livingasawareness@gmail.com
END:VEVENT
BEGIN:VEVENT
DTSTART;TZID=America/New_York:20251226T180000
DTEND;TZID=America/New_York:20251226T193000
DTSTAMP:20260420T083553
CREATED:20251222T212915Z
LAST-MODIFIED:20251222T213000Z
UID:6627-1766772000-1766777400@greensboroholisticcollective.com
SUMMARY:Evening Unwind & Sound Bath
DESCRIPTION:The stressors of the holidays can leave us yearning to return to balance\, to reconnect with ourselves\, and to unwind. \nJoin us for this 90-minute restorative yoga experience focused on decompressing the body through breath\, gentle movement\, and restful stillness. We’ll explore a variety of supportive healing modalities\, with each class offering something a little different. \nWe’ll close with Yoga Nidra and a soothing sound bath to encourage deep calm in the mind-body system. \nAll levels are welcome. Remember to bring your comfiest essentials—think snuggly blankets\, dreamy eye pillow\, and plush socks. \nLet’s create our own oasis of calm.
URL:https://greensboroholisticcollective.com/event/evening-unwind-sound-bath/
LOCATION:Radiance Yoga Greensboro\, 1860 Pembroke Rd\, Greensboro\, NC\, 27408\, United States
CATEGORIES:Health & Wellness,Workshops & Classes
ATTACH;FMTTYPE=image/png:https://greensboroholisticcollective.com/wp-content/uploads/2025/12/Evening-Unwind-Square.png
ORGANIZER;CN="Sama Integrative Wellness":MAILTO:veda@samaintegrativewellness.com
END:VEVENT
BEGIN:VEVENT
DTSTART;TZID=America/New_York:20251228T130000
DTEND;TZID=America/New_York:20251228T143000
DTSTAMP:20260420T083553
CREATED:20251208T215824Z
LAST-MODIFIED:20251209T202553Z
UID:6574-1766926800-1766932200@greensboroholisticcollective.com
SUMMARY:Live Zoom Workshop – Taking Your Questions And Diving Into Oneness
DESCRIPTION:In this live Zoom call\, you will be able to interact with each other\, creating a sense of community. Deana connects to the vibration of Source and love energy; this radiates to all on the call\, allowing the participant to find and experience that love energy in themselves\, creating a sense of peace. \nThen you will have the opportunity to ask anything that may come up for you. Your individual questions set the direction the discussion takes as we dive into Source and experience clarity together. \nRegister here: Cost is $25 \nLearn More About Deana
URL:https://greensboroholisticcollective.com/event/live-zoom-workshop-taking-your-questions-and-diving-into-oneness-4/
LOCATION:Virtual
CATEGORIES:Workshops & Classes
ATTACH;FMTTYPE=image/png:https://greensboroholisticcollective.com/wp-content/uploads/2025/12/DC-December-posts-corrected3-1.png
ORGANIZER;CN="Deana Coble":MAILTO:livingasawareness@gmail.com
END:VEVENT
END:VCALENDAR