BEGIN:VCALENDAR
VERSION:2.0
PRODID:-//Greensboro Holistic Collective - ECPv6.15.20//NONSGML v1.0//EN
CALSCALE:GREGORIAN
METHOD:PUBLISH
X-WR-CALNAME:Greensboro Holistic Collective
X-ORIGINAL-URL:https://greensboroholisticcollective.com
X-WR-CALDESC:Events for Greensboro Holistic Collective
REFRESH-INTERVAL;VALUE=DURATION:PT1H
X-Robots-Tag:noindex
X-PUBLISHED-TTL:PT1H
BEGIN:VTIMEZONE
TZID:America/New_York
BEGIN:DAYLIGHT
TZOFFSETFROM:-0500
TZOFFSETTO:-0400
TZNAME:EDT
DTSTART:20250309T070000
END:DAYLIGHT
BEGIN:STANDARD
TZOFFSETFROM:-0400
TZOFFSETTO:-0500
TZNAME:EST
DTSTART:20251102T060000
END:STANDARD
BEGIN:DAYLIGHT
TZOFFSETFROM:-0500
TZOFFSETTO:-0400
TZNAME:EDT
DTSTART:20260308T070000
END:DAYLIGHT
BEGIN:STANDARD
TZOFFSETFROM:-0400
TZOFFSETTO:-0500
TZNAME:EST
DTSTART:20261101T060000
END:STANDARD
BEGIN:DAYLIGHT
TZOFFSETFROM:-0500
TZOFFSETTO:-0400
TZNAME:EDT
DTSTART:20270314T070000
END:DAYLIGHT
BEGIN:STANDARD
TZOFFSETFROM:-0400
TZOFFSETTO:-0500
TZNAME:EST
DTSTART:20271107T060000
END:STANDARD
END:VTIMEZONE
BEGIN:VEVENT
DTSTART;TZID=America/New_York:20260111T140000
DTEND;TZID=America/New_York:20260111T153000
DTSTAMP:20260420T044251
CREATED:20251217T101529Z
LAST-MODIFIED:20251217T101529Z
UID:6604-1768140000-1768145400@greensboroholisticcollective.com
SUMMARY:JOURNEY OF THE SPIRIT - with Margo Ross Sears
DESCRIPTION:Take a fun and easy step toward holistic healing (mental\, social\, physical or spiritual self).  FREE\, valuable and entertainingly transformative experience of self-discovery and natural enlightenment.  Monthly; 2nd Sunday of each month.  Join in or be a guest speaker!
URL:https://greensboroholisticcollective.com/event/journey-of-the-spirit-with-margo-ross-sears/
LOCATION:The Pear Tree Wellness Center\, 1101 W. Market St.\, Greensboro\, NC\, 27403\, United States
CATEGORIES:Health & Wellness,Networking & Community Events
ATTACH;FMTTYPE=image/jpeg:https://greensboroholisticcollective.com/wp-content/uploads/2025/12/clean_525504758.jpg
ORGANIZER;CN="LEWA - Light &amp%3B Energy Workers Association":MAILTO:Margo@networkthelight.net
END:VEVENT
END:VCALENDAR