BEGIN:VCALENDAR
VERSION:2.0
PRODID:-//Greensboro Holistic Collective - ECPv6.15.20//NONSGML v1.0//EN
CALSCALE:GREGORIAN
METHOD:PUBLISH
X-ORIGINAL-URL:https://greensboroholisticcollective.com
X-WR-CALDESC:Events for Greensboro Holistic Collective
REFRESH-INTERVAL;VALUE=DURATION:PT1H
X-Robots-Tag:noindex
X-PUBLISHED-TTL:PT1H
BEGIN:VTIMEZONE
TZID:America/New_York
BEGIN:DAYLIGHT
TZOFFSETFROM:-0500
TZOFFSETTO:-0400
TZNAME:EDT
DTSTART:20250309T070000
END:DAYLIGHT
BEGIN:STANDARD
TZOFFSETFROM:-0400
TZOFFSETTO:-0500
TZNAME:EST
DTSTART:20251102T060000
END:STANDARD
BEGIN:DAYLIGHT
TZOFFSETFROM:-0500
TZOFFSETTO:-0400
TZNAME:EDT
DTSTART:20260308T070000
END:DAYLIGHT
BEGIN:STANDARD
TZOFFSETFROM:-0400
TZOFFSETTO:-0500
TZNAME:EST
DTSTART:20261101T060000
END:STANDARD
BEGIN:DAYLIGHT
TZOFFSETFROM:-0500
TZOFFSETTO:-0400
TZNAME:EDT
DTSTART:20270314T070000
END:DAYLIGHT
BEGIN:STANDARD
TZOFFSETFROM:-0400
TZOFFSETTO:-0500
TZNAME:EST
DTSTART:20271107T060000
END:STANDARD
END:VTIMEZONE
BEGIN:VEVENT
DTSTART;TZID=America/New_York:20260122T183000
DTEND;TZID=America/New_York:20260122T200000
DTSTAMP:20260420T064316
CREATED:20260102T031142Z
LAST-MODIFIED:20260102T031142Z
UID:6711-1769106600-1769112000@greensboroholisticcollective.com
SUMMARY:Presence Practice Together - Free Zoom
DESCRIPTION:During this time\, we will gather together on zoom in community.  Listen to a brief meditation (10 minutes) then take that state into practice for 15 minutes (silent presence practice).  Then we will open the floor to discussion and sharing while continuing to hold presence.  All are welcome – no practice level necessary.  Email livingasawareness@gmail.com to get the zoom link.
URL:https://greensboroholisticcollective.com/event/presence-practice-together-free-zoom-2/
LOCATION:Virtual – Online event\, Online Virtual Summit
CATEGORIES:Workshops & Classes
ATTACH;FMTTYPE=image/png:https://greensboroholisticcollective.com/wp-content/uploads/2026/01/alignmentnaturecapable-1.png
END:VEVENT
END:VCALENDAR