BEGIN:VCALENDAR
VERSION:2.0
PRODID:-//Greensboro Holistic Collective - ECPv6.15.20//NONSGML v1.0//EN
CALSCALE:GREGORIAN
METHOD:PUBLISH
X-ORIGINAL-URL:https://greensboroholisticcollective.com
X-WR-CALDESC:Events for Greensboro Holistic Collective
REFRESH-INTERVAL;VALUE=DURATION:PT1H
X-Robots-Tag:noindex
X-PUBLISHED-TTL:PT1H
BEGIN:VTIMEZONE
TZID:America/New_York
BEGIN:DAYLIGHT
TZOFFSETFROM:-0500
TZOFFSETTO:-0400
TZNAME:EDT
DTSTART:20250309T070000
END:DAYLIGHT
BEGIN:STANDARD
TZOFFSETFROM:-0400
TZOFFSETTO:-0500
TZNAME:EST
DTSTART:20251102T060000
END:STANDARD
BEGIN:DAYLIGHT
TZOFFSETFROM:-0500
TZOFFSETTO:-0400
TZNAME:EDT
DTSTART:20260308T070000
END:DAYLIGHT
BEGIN:STANDARD
TZOFFSETFROM:-0400
TZOFFSETTO:-0500
TZNAME:EST
DTSTART:20261101T060000
END:STANDARD
BEGIN:DAYLIGHT
TZOFFSETFROM:-0500
TZOFFSETTO:-0400
TZNAME:EDT
DTSTART:20270314T070000
END:DAYLIGHT
BEGIN:STANDARD
TZOFFSETFROM:-0400
TZOFFSETTO:-0500
TZNAME:EST
DTSTART:20271107T060000
END:STANDARD
END:VTIMEZONE
BEGIN:VEVENT
DTSTART;TZID=America/New_York:20260125T130000
DTEND;TZID=America/New_York:20260125T143000
DTSTAMP:20260420T051007
CREATED:20251208T215425Z
LAST-MODIFIED:20260102T183821Z
UID:6573-1769346000-1769351400@greensboroholisticcollective.com
SUMMARY:Live Zoom Workshop - Taking Your Questions And Diving Into Oneness
DESCRIPTION:Have you been feeling overwhelmed or concerned—needing to connect\, know you are ok\, and feel clarity on your direction? \nIn this live Zoom call\, you will be able to interact with each other\, creating a sense of community. Deana connects to the vibration of Source and love energy; this radiates to all on the call\, allowing the participant to find and experience that love energy in themselves\, creating a sense of peace. \nThen you will have the opportunity to ask anything that may come up for you. Your individual questions set the direction the discussion takes as we dive into Source and experience clarity together. \nRegister here: Cost is $25 \nLearn More About Deana
URL:https://greensboroholisticcollective.com/event/live-zoom-workshop-taking-your-questions-and-diving-into-oneness-3/
LOCATION:Virtual
CATEGORIES:Workshops & Classes
ATTACH;FMTTYPE=image/png:https://greensboroholisticcollective.com/wp-content/uploads/2025/12/deana.png
ORGANIZER;CN="Deana Coble":MAILTO:livingasawareness@gmail.com
END:VEVENT
END:VCALENDAR